Workbook

Sheet 0. Bắt đầu
B1: MẪU BÁO CÁO SỰ KIỆN · BẢN TRỐNG
B2: Cho chương trình nhiều điểm, nhiều ngày: sampling, activation, roadshow, booth. Mở ra là thấy ví dụ đã điền.
B3: Bản trống: đổi tên điểm ở sheet Danh mục, điền ô vàng, kết quả và biểu đồ hiện ở đây.
B5: 3 BƯỚC DÙNG
B6: ① Đổi tên điểm ở sheet «Danh mục» (bảng tổng và biểu đồ đọc tên ở đó), rồi điền sheet «1. Thông tin».
B7: ② Điền ô vàng ở sheet 2, 3, 4, 5. Xóa số mẫu trước rồi điền số của bạn.
B8: ③ Quay lại đây xem kết quả. In PDF (Ctrl+P, đã đặt vừa A4 ngang) hoặc chép biểu đồ sang Word.
B10: Chương trình: | C10: ='1. Thông tin'!B5 -> 0
B12: % đạt chỉ tiêu chính | D12: Mẫu đã phát | F12: Số ngày-điểm có phát mẫu | H12: Chi phí trên mỗi mẫu
B13: =IFERROR(INDEX('2. Chỉ tiêu'!F6:F15,MATCH("Có",'2. Chỉ tiêu'!H6:H15,0)),"") | D13: ='3. Theo điểm và ngày'!E6 -> 0 | F13: =COUNTIF('3. Theo điểm và ngày'!E7:E106,">0") -> 0 | H13: =IFERROR('4. Chi phí'!I26/'3. Theo điểm và ngày'!E6,"")
B14: =IFERROR(INDEX('2. Chỉ tiêu'!B6:B15,MATCH("Có",'2. Chỉ tiêu'!H6:H15,0)),"Chưa đánh dấu chỉ tiêu chính ở sheet 2") -> Số mẫu đã phát | D14: ='3. Theo điểm và ngày'!D6 -> 0 | F14: ='1. Thông tin'!B10 -> 0 | H14: Thực chi chia số mẫu đã phát
B16: Thực chi | D16: Chênh lệch chi phí | F16: Thực chi / dự toán | H16: Hồ sơ đính kèm đã đủ
B17: ='4. Chi phí'!I26/1000000 -> 0 | D17: ='4. Chi phí'!J26/1000000 -> 0 | F17: =IFERROR('4. Chi phí'!I26/'4. Chi phí'!F26,"") | H17: ='5. Đánh giá và đề xuất'!B37
B18: ='4. Chi phí'!F26/1000000 -> 0 | D18: ='4. Chi phí'!K26 | F18: Trên 100% là vượt dự toán | H18: Đếm ở sheet 5, mục Hồ sơ đính kèm
B20: Ngưỡng chênh lệch cần ghi lý do (sheet 4 đọc ô này): | I20: 0.1
B39: Cần đội chạy chương trình và gửi báo cáo theo điểm? A.M Agency · amagency.vn · Hotline/Zalo: 0922 891 212
B40: Mẫu của A.M Agency – amagency.vn

Sheet 1. Thông tin
A1: 1. THÔNG TIN CHƯƠNG TRÌNH
A2: Điền một lần. Tên chương trình hiện lên sheet Bắt đầu.
A3: Ô vàng: bạn điền. Ô trắng: tự tính, đã khóa (Review > Unprotect Sheet nếu cần sửa, không mật khẩu).
A5: Tên chương trình
A6: Nhãn hàng hoặc đơn vị
A7: Loại chương trình | C7: Chọn trong danh sách
A8: Từ ngày
A9: Đến ngày
A10: Số điểm
A11: Địa điểm
A12: Người lập
A13: Gửi cho
A14: Ngày gửi
A15: Mục tiêu chính 1
A16: Mục tiêu chính 2
A17: Mục tiêu chính 3
A18: Tóm tắt 3 câu | C18: Gợi ý: đã chạy gì, đạt bao nhiêu, điều lần sau đổi.
A19: Link thư mục ảnh
A20: Link file theo dõi số
A23: Mẫu của A.M Agency – amagency.vn

Sheet 2. Chỉ tiêu
A1: 2. CHỈ TIÊU: KẾ HOẠCH VÀ THỰC TẾ
A2: Mỗi chỉ tiêu một dòng. % đạt và chênh lệch tự tính. Đánh dấu «Có» ở chỉ tiêu chính để hiện lên sheet Bắt đầu.
A3: Ô vàng: bạn điền. Ô trắng: tự tính, đã khóa (Review > Unprotect Sheet nếu cần sửa, không mật khẩu).
A5: STT | B5: Chỉ tiêu | C5: Đơn vị | D5: Kế hoạch | E5: Thực tế | F5: % đạt | G5: Chênh lệch | H5: Chỉ tiêu chính | I5: Nguồn số | J5: Ghi chú
A6: 1 | B6: Số mẫu đã phát | C6: mẫu | D6: ='3. Theo điểm và ngày'!D6 -> 0 | E6: ='3. Theo điểm và ngày'!E6 -> 0 | F6: =IF(OR(D6="",E6=""),"",IFERROR(E6/D6,"")) | G6: =IF(OR(D6="",E6=""),"",E6-D6) -> 0 | H6: Có | I6: báo cáo cuối ngày | J6: Tự lấy tổng ở sheet 3
A7: 2 | B7: Lượt chơi game vòng quay | C7: lượt | D7: ='3. Theo điểm và ngày'!G6 -> 0 | E7: ='3. Theo điểm và ngày'!H6 -> 0 | F7: =IF(OR(D7="",E7=""),"",IFERROR(E7/D7,"")) | G7: =IF(OR(D7="",E7=""),"",E7-D7) -> 0 | H7: Không | I7: báo cáo cuối ngày | J7: Tự lấy tổng ở sheet 3
A8: 3 | B8: Lượt đăng ký qua mã QR | C8: lượt | F8: =IF(OR(D8="",E8=""),"",IFERROR(E8/D8,"")) | G8: =IF(OR(D8="",E8=""),"",E8-D8) | H8: Không | I8: QR đăng ký
A9: 4 | B9: Số ca PG đã chạy | C9: ca | F9: =IF(OR(D9="",E9=""),"",IFERROR(E9/D9,"")) | G9: =IF(OR(D9="",E9=""),"",E9-D9) | H9: Không | I9: check-in | J9: Vượt ca là vượt chi: ô % không tô xanh
A10: 5 | B10: Lượt tiếp cận bài đăng sau chương trình | C10: lượt | F10: =IF(OR(D10="",E10=""),"",IFERROR(E10/D10,"")) | G10: =IF(OR(D10="",E10=""),"",E10-D10) | H10: Không | I10: nền tảng mạng xã hội | J10: Lượt hiển thị theo nền tảng, chưa loại trùng
A11: 6 | B11: Điểm hài lòng khảo sát (thang 5) | C11: điểm | F11: =IF(OR(D11="",E11=""),"",IFERROR(E11/D11,"")) | G11: =IF(OR(D11="",E11=""),"",E11-D11) | H11: Không | I11: khảo sát | J11: Trung bình các phiếu khảo sát thu về
A12: 7 | F12: =IF(OR(D12="",E12=""),"",IFERROR(E12/D12,"")) | G12: =IF(OR(D12="",E12=""),"",E12-D12)
A13: 8 | F13: =IF(OR(D13="",E13=""),"",IFERROR(E13/D13,"")) | G13: =IF(OR(D13="",E13=""),"",E13-D13)
A14: 9 | F14: =IF(OR(D14="",E14=""),"",IFERROR(E14/D14,"")) | G14: =IF(OR(D14="",E14=""),"",E14-D14)
A15: 10 | F15: =IF(OR(D15="",E15=""),"",IFERROR(E15/D15,"")) | G15: =IF(OR(D15="",E15=""),"",E15-D15)
B17: Số mẫu đã phát, lượt chơi, lượt đăng ký là các chỉ tiêu riêng: không cộng lại, không quy thành số người khi chưa loại trùng.
B18: Màu % đạt: xanh từ 100%, vàng 80-99%, đỏ dưới 80%; dòng đơn vị «ca» không tô màu vì vượt ca là vượt chi. Dòng 1 và 2 tự lấy tổng ở sheet 3.
A20: Mẫu của A.M Agency – amagency.vn

Sheet 3. Theo điểm và ngày
A1: 3. BÁO CÁO THEO ĐIỂM VÀ THEO NGÀY
A2: Mỗi ngày-điểm một dòng, lấy từ báo cáo nhanh cuối ngày của giám sát. Tồn theo sổ và lệch tồn tự tính.
A3: Ô vàng: bạn điền. Ô trắng: tự tính, đã khóa (Review > Unprotect Sheet nếu cần sửa, không mật khẩu).
A4: Dòng TỔNG nằm trên cùng. Thêm dòng: chèn dòng ở giữa bảng (không chèn sát dòng TỔNG), rồi kéo công thức từ dòng trên xuống. | P4: TỔNG THEO ĐIỂM (nguồn biểu đồ 1)
A5: STT | B5: Ngày | C5: Điểm | D5: KPI mẫu | E5: Mẫu đã phát | F5: % đạt | G5: Lượt chơi kế hoạch | H5: Lượt chơi thực tế | I5: Hàng đầu ngày | J5: Hư hỏng | K5: Tồn theo sổ | L5: Tồn kiểm thực tế | M5: Lệch tồn | N5: Sự cố / ghi chú | P5: Điểm | Q5: KPI mẫu | R5: Mẫu đã phát | S5: % đạt | T5: Lượt chơi thực tế
B6: TỔNG | D6: =SUM(D7:D106) -> 0 | E6: =SUM(E7:E106) -> 0 | F6: =IFERROR(E6/D6,"") | G6: =SUM(G7:G106) -> 0 | H6: =SUM(H7:H106) -> 0 | J6: =SUM(J7:J106) -> 0 | M6: =SUM(M7:M106) -> 0 | P6: =IF('Danh mục'!F5="","",'Danh mục'!F5) -> Điểm 1 | Q6: =IF(P6="","",SUMIF($C$7:$C$106,P6,$D$7:$D$106)) -> 0 | R6: =IF(P6="","",SUMIF($C$7:$C$106,P6,$E$7:$E$106)) -> 0 | S6: =IF(P6="","",IFERROR(R6/Q6,"")) | T6: =IF(P6="","",SUMIF($C$7:$C$106,P6,$H$7:$H$106)) -> 0
A7: 1 | F7: =IF(OR(D7="",E7=""),"",IFERROR(E7/D7,"")) | K7: =IF(I7="","",I7-E7-J7) | M7: =IF(OR(K7="",L7=""),"",L7-K7) | P7: =IF('Danh mục'!F6="","",'Danh mục'!F6) -> Điểm 2 | Q7: =IF(P7="","",SUMIF($C$7:$C$106,P7,$D$7:$D$106)) -> 0 | R7: =IF(P7="","",SUMIF($C$7:$C$106,P7,$E$7:$E$106)) -> 0 | S7: =IF(P7="","",IFERROR(R7/Q7,"")) | T7: =IF(P7="","",SUMIF($C$7:$C$106,P7,$H$7:$H$106)) -> 0
A8: 2 | F8: =IF(OR(D8="",E8=""),"",IFERROR(E8/D8,"")) | K8: =IF(I8="","",I8-E8-J8) | M8: =IF(OR(K8="",L8=""),"",L8-K8) | P8: =IF('Danh mục'!F7="","",'Danh mục'!F7) -> Điểm 3 | Q8: =IF(P8="","",SUMIF($C$7:$C$106,P8,$D$7:$D$106)) -> 0 | R8: =IF(P8="","",SUMIF($C$7:$C$106,P8,$E$7:$E$106)) -> 0 | S8: =IF(P8="","",IFERROR(R8/Q8,"")) | T8: =IF(P8="","",SUMIF($C$7:$C$106,P8,$H$7:$H$106)) -> 0
A9: 3 | F9: =IF(OR(D9="",E9=""),"",IFERROR(E9/D9,"")) | K9: =IF(I9="","",I9-E9-J9) | M9: =IF(OR(K9="",L9=""),"",L9-K9) | P9: =IF('Danh mục'!F8="","",'Danh mục'!F8) | Q9: =IF(P9="","",SUMIF($C$7:$C$106,P9,$D$7:$D$106)) | R9: =IF(P9="","",SUMIF($C$7:$C$106,P9,$E$7:$E$106)) | S9: =IF(P9="","",IFERROR(R9/Q9,"")) | T9: =IF(P9="","",SUMIF($C$7:$C$106,P9,$H$7:$H$106))
A10: 4 | F10: =IF(OR(D10="",E10=""),"",IFERROR(E10/D10,"")) | K10: =IF(I10="","",I10-E10-J10) | M10: =IF(OR(K10="",L10=""),"",L10-K10) | P10: =IF('Danh mục'!F9="","",'Danh mục'!F9) | Q10: =IF(P10="","",SUMIF($C$7:$C$106,P10,$D$7:$D$106)) | R10: =IF(P10="","",SUMIF($C$7:$C$106,P10,$E$7:$E$106)) | S10: =IF(P10="","",IFERROR(R10/Q10,"")) | T10: =IF(P10="","",SUMIF($C$7:$C$106,P10,$H$7:$H$106))
A11: 5 | F11: =IF(OR(D11="",E11=""),"",IFERROR(E11/D11,"")) | K11: =IF(I11="","",I11-E11-J11) | M11: =IF(OR(K11="",L11=""),"",L11-K11) | P11: =IF('Danh mục'!F10="","",'Danh mục'!F10) | Q11: =IF(P11="","",SUMIF($C$7:$C$106,P11,$D$7:$D$106)) | R11: =IF(P11="","",SUMIF($C$7:$C$106,P11,$E$7:$E$106)) | S11: =IF(P11="","",IFERROR(R11/Q11,"")) | T11: =IF(P11="","",SUMIF($C$7:$C$106,P11,$H$7:$H$106))
A12: 6 | F12: =IF(OR(D12="",E12=""),"",IFERROR(E12/D12,"")) | K12: =IF(I12="","",I12-E12-J12) | M12: =IF(OR(K12="",L12=""),"",L12-K12) | P12: =IF('Danh mục'!F11="","",'Danh mục'!F11) | Q12: =IF(P12="","",SUMIF($C$7:$C$106,P12,$D$7:$D$106)) | R12: =IF(P12="","",SUMIF($C$7:$C$106,P12,$E$7:$E$106)) | S12: =IF(P12="","",IFERROR(R12/Q12,"")) | T12: =IF(P12="","",SUMIF($C$7:$C$106,P12,$H$7:$H$106))
A13: 7 | F13: =IF(OR(D13="",E13=""),"",IFERROR(E13/D13,"")) | K13: =IF(I13="","",I13-E13-J13) | M13: =IF(OR(K13="",L13=""),"",L13-K13) | P13: =IF('Danh mục'!F12="","",'Danh mục'!F12) | Q13: =IF(P13="","",SUMIF($C$7:$C$106,P13,$D$7:$D$106)) | R13: =IF(P13="","",SUMIF($C$7:$C$106,P13,$E$7:$E$106)) | S13: =IF(P13="","",IFERROR(R13/Q13,"")) | T13: =IF(P13="","",SUMIF($C$7:$C$106,P13,$H$7:$H$106))
A14: 8 | F14: =IF(OR(D14="",E14=""),"",IFERROR(E14/D14,"")) | K14: =IF(I14="","",I14-E14-J14) | M14: =IF(OR(K14="",L14=""),"",L14-K14) | P14: =IF('Danh mục'!F13="","",'Danh mục'!F13) | Q14: =IF(P14="","",SUMIF($C$7:$C$106,P14,$D$7:$D$106)) | R14: =IF(P14="","",SUMIF($C$7:$C$106,P14,$E$7:$E$106)) | S14: =IF(P14="","",IFERROR(R14/Q14,"")) | T14: =IF(P14="","",SUMIF($C$7:$C$106,P14,$H$7:$H$106))
A15: 9 | F15: =IF(OR(D15="",E15=""),"",IFERROR(E15/D15,"")) | K15: =IF(I15="","",I15-E15-J15) | M15: =IF(OR(K15="",L15=""),"",L15-K15) | P15: =IF('Danh mục'!F14="","",'Danh mục'!F14) | Q15: =IF(P15="","",SUMIF($C$7:$C$106,P15,$D$7:$D$106)) | R15: =IF(P15="","",SUMIF($C$7:$C$106,P15,$E$7:$E$106)) | S15: =IF(P15="","",IFERROR(R15/Q15,"")) | T15: =IF(P15="","",SUMIF($C$7:$C$106,P15,$H$7:$H$106))
A16: 10 | F16: =IF(OR(D16="",E16=""),"",IFERROR(E16/D16,"")) | K16: =IF(I16="","",I16-E16-J16) | M16: =IF(OR(K16="",L16=""),"",L16-K16) | P16: Tên điểm lấy ở sheet «Danh mục» (tối đa 10 điểm).
A17: 11 | F17: =IF(OR(D17="",E17=""),"",IFERROR(E17/D17,"")) | K17: =IF(I17="","",I17-E17-J17) | M17: =IF(OR(K17="",L17=""),"",L17-K17) | P17: Lệch tồn khác 0 tô đỏ: đếm lại hàng hoặc đối chiếu phiếu giao.
A18: 12 | F18: =IF(OR(D18="",E18=""),"",IFERROR(E18/D18,"")) | K18: =IF(I18="","",I18-E18-J18) | M18: =IF(OR(K18="",L18=""),"",L18-K18) | P18: Dòng có ghi sự cố tô cam.
A19: 13 | F19: =IF(OR(D19="",E19=""),"",IFERROR(E19/D19,"")) | K19: =IF(I19="","",I19-E19-J19) | M19: =IF(OR(K19="",L19=""),"",L19-K19)
A20: 14 | F20: =IF(OR(D20="",E20=""),"",IFERROR(E20/D20,"")) | K20: =IF(I20="","",I20-E20-J20) | M20: =IF(OR(K20="",L20=""),"",L20-K20)
A21: 15 | F21: =IF(OR(D21="",E21=""),"",IFERROR(E21/D21,"")) | K21: =IF(I21="","",I21-E21-J21) | M21: =IF(OR(K21="",L21=""),"",L21-K21)
A22: 16 | F22: =IF(OR(D22="",E22=""),"",IFERROR(E22/D22,"")) | K22: =IF(I22="","",I22-E22-J22) | M22: =IF(OR(K22="",L22=""),"",L22-K22)
A23: 17 | F23: =IF(OR(D23="",E23=""),"",IFERROR(E23/D23,"")) | K23: =IF(I23="","",I23-E23-J23) | M23: =IF(OR(K23="",L23=""),"",L23-K23)
A24: 18 | F24: =IF(OR(D24="",E24=""),"",IFERROR(E24/D24,"")) | K24: =IF(I24="","",I24-E24-J24) | M24: =IF(OR(K24="",L24=""),"",L24-K24)
A25: 19 | F25: =IF(OR(D25="",E25=""),"",IFERROR(E25/D25,"")) | K25: =IF(I25="","",I25-E25-J25) | M25: =IF(OR(K25="",L25=""),"",L25-K25)
A26: 20 | F26: =IF(OR(D26="",E26=""),"",IFERROR(E26/D26,"")) | K26: =IF(I26="","",I26-E26-J26) | M26: =IF(OR(K26="",L26=""),"",L26-K26)
A27: 21 | F27: =IF(OR(D27="",E27=""),"",IFERROR(E27/D27,"")) | K27: =IF(I27="","",I27-E27-J27) | M27: =IF(OR(K27="",L27=""),"",L27-K27)
A28: 22 | F28: =IF(OR(D28="",E28=""),"",IFERROR(E28/D28,"")) | K28: =IF(I28="","",I28-E28-J28) | M28: =IF(OR(K28="",L28=""),"",L28-K28)
A29: 23 | F29: =IF(OR(D29="",E29=""),"",IFERROR(E29/D29,"")) | K29: =IF(I29="","",I29-E29-J29) | M29: =IF(OR(K29="",L29=""),"",L29-K29)
A30: 24 | F30: =IF(OR(D30="",E30=""),"",IFERROR(E30/D30,"")) | K30: =IF(I30="","",I30-E30-J30) | M30: =IF(OR(K30="",L30=""),"",L30-K30)
... A106: 100 | F106: =IF(OR(D106="",E106=""),"",IFERROR(E106/D106,"")) | K106: =IF(I106="","",I106-E106-J106) | M106: =IF(OR(K106="",L106=""),"",L106-K106)
A108: Mẫu của A.M Agency – amagency.vn

Sheet 4. Chi phí
A1: 4. CHI PHÍ: DỰ TOÁN, THỰC CHI, CHÊNH LỆCH
A2: Điền số lượng và đơn giá; thành tiền, chênh lệch, % chênh tự tính. Khoản lệch quá ngưỡng phải ghi lý do.
A3: Ô vàng: bạn điền. Ô trắng: tự tính, đã khóa (Review > Unprotect Sheet nếu cần sửa, không mật khẩu). | J3: Ngưỡng cần ghi lý do (lấy ở sheet Bắt đầu): | L3: ='0. Bắt đầu'!$I$20 -> 0.1
O4: THEO NHÓM (nguồn biểu đồ 2)
A5: Nhóm | B5: Hạng mục | C5: ĐVT | D5: SL dự toán | E5: Đơn giá dự toán (*) | F5: Thành tiền dự toán (*) | G5: SL thực | H5: Đơn giá thực (*) | I5: Thực chi (*) | J5: Chênh lệch | K5: % chênh | L5: Lý do (bắt buộc khi lệch quá ngưỡng) | M5: Chứng từ | O5: Nhóm | P5: Dự toán (*) | Q5: Thực chi (*) | R5: Chênh lệch (*) | S5: % chênh
A6: nhân sự | B6: PG phát mẫu và hướng dẫn game | C6: ca | F6: =IF(OR(D6="",E6=""),"",D6*E6) | I6: =IF(OR(G6="",H6=""),"",G6*H6) | J6: =IF(OR(F6="",I6=""),"",I6-F6) | K6: =IF(OR(F6="",I6=""),"",IFERROR((I6-F6)/F6,"")) | O6: ='Danh mục'!C5 -> nhân sự | P6: =SUMIF($A$6:$A$25,O6,$F$6:$F$25) -> 0 | Q6: =SUMIF($A$6:$A$25,O6,$I$6:$I$25) -> 0 | R6: =Q6-P6 -> 0 | S6: =IFERROR(R6/P6,"")
A7: nhân sự | B7: Giám sát tại điểm | C7: ca | F7: =IF(OR(D7="",E7=""),"",D7*E7) | I7: =IF(OR(G7="",H7=""),"",G7*H7) | J7: =IF(OR(F7="",I7=""),"",I7-F7) | K7: =IF(OR(F7="",I7=""),"",IFERROR((I7-F7)/F7,"")) | O7: ='Danh mục'!C6 -> quầy, booth và POSM | P7: =SUMIF($A$6:$A$25,O7,$F$6:$F$25) -> 0 | Q7: =SUMIF($A$6:$A$25,O7,$I$6:$I$25) -> 0 | R7: =Q7-P7 -> 0 | S7: =IFERROR(R7/P7,"")
A8: quầy, booth và POSM | B8: Booth thiết kế riêng | C8: cái | F8: =IF(OR(D8="",E8=""),"",D8*E8) | I8: =IF(OR(G8="",H8=""),"",G8*H8) | J8: =IF(OR(F8="",I8=""),"",I8-F8) | K8: =IF(OR(F8="",I8=""),"",IFERROR((I8-F8)/F8,"")) | O8: ='Danh mục'!C7 -> vật tư phát mẫu | P8: =SUMIF($A$6:$A$25,O8,$F$6:$F$25) -> 0 | Q8: =SUMIF($A$6:$A$25,O8,$I$6:$I$25) -> 0 | R8: =Q8-P8 -> 0 | S8: =IFERROR(R8/P8,"")
A9: vật tư phát mẫu | B9: Ly, khay, thùng giữ lạnh | C9: đợt | F9: =IF(OR(D9="",E9=""),"",D9*E9) | I9: =IF(OR(G9="",H9=""),"",G9*H9) | J9: =IF(OR(F9="",I9=""),"",I9-F9) | K9: =IF(OR(F9="",I9=""),"",IFERROR((I9-F9)/F9,"")) | O9: ='Danh mục'!C8 -> vận chuyển và kho | P9: =SUMIF($A$6:$A$25,O9,$F$6:$F$25) -> 0 | Q9: =SUMIF($A$6:$A$25,O9,$I$6:$I$25) -> 0 | R9: =Q9-P9 -> 0 | S9: =IFERROR(R9/P9,"")
A10: vận chuyển và kho | B10: Vận chuyển trong thành phố | C10: chuyến | F10: =IF(OR(D10="",E10=""),"",D10*E10) | I10: =IF(OR(G10="",H10=""),"",G10*H10) | J10: =IF(OR(F10="",I10=""),"",I10-F10) | K10: =IF(OR(F10="",I10=""),"",IFERROR((I10-F10)/F10,"")) | O10: ='Danh mục'!C9 -> truyền thông | P10: =SUMIF($A$6:$A$25,O10,$F$6:$F$25) -> 0 | Q10: =SUMIF($A$6:$A$25,O10,$I$6:$I$25) -> 0 | R10: =Q10-P10 -> 0 | S10: =IFERROR(R10/P10,"")
A11: vận chuyển và kho | B11: Kho, cả đợt | C11: đợt | F11: =IF(OR(D11="",E11=""),"",D11*E11) | I11: =IF(OR(G11="",H11=""),"",G11*H11) | J11: =IF(OR(F11="",I11=""),"",I11-F11) | K11: =IF(OR(F11="",I11=""),"",IFERROR((I11-F11)/F11,"")) | O11: ='Danh mục'!C10 -> quản lý và khác | P11: =SUMIF($A$6:$A$25,O11,$F$6:$F$25) -> 0 | Q11: =SUMIF($A$6:$A$25,O11,$I$6:$I$25) -> 0 | R11: =Q11-P11 -> 0 | S11: =IFERROR(R11/P11,"")
A12: quản lý và khác | B12: Quản lý chương trình | C12: gói | F12: =IF(OR(D12="",E12=""),"",D12*E12) | I12: =IF(OR(G12="",H12=""),"",G12*H12) | J12: =IF(OR(F12="",I12=""),"",I12-F12) | K12: =IF(OR(F12="",I12=""),"",IFERROR((I12-F12)/F12,"")) | O12: Tổng | P12: =SUM(P6:P11) -> 0 | Q12: =SUM(Q6:Q11) -> 0 | R12: =SUM(R6:R11) -> 0
A13: quản lý và khác | B13: Đào tạo đội | C13: đợt | F13: =IF(OR(D13="",E13=""),"",D13*E13) | I13: =IF(OR(G13="",H13=""),"",G13*H13) | J13: =IF(OR(F13="",I13=""),"",I13-F13) | K13: =IF(OR(F13="",I13=""),"",IFERROR((I13-F13)/F13,"")) | O13: Khớp với dòng TỔNG bên trái là đúng nhóm:
A14: quản lý và khác | B14: Báo cáo, phát sinh tại điểm | C14: gói | F14: =IF(OR(D14="",E14=""),"",D14*E14) | I14: =IF(OR(G14="",H14=""),"",G14*H14) | J14: =IF(OR(F14="",I14=""),"",I14-F14) | K14: =IF(OR(F14="",I14=""),"",IFERROR((I14-F14)/F14,"")) | O14: =IF(ABS(P12-F26)+ABS(Q12-I26)<1,"Khớp","Có dòng chưa chọn nhóm") -> Khớp
F15: =IF(OR(D15="",E15=""),"",D15*E15) | I15: =IF(OR(G15="",H15=""),"",G15*H15) | J15: =IF(OR(F15="",I15=""),"",I15-F15) | K15: =IF(OR(F15="",I15=""),"",IFERROR((I15-F15)/F15,""))
F16: =IF(OR(D16="",E16=""),"",D16*E16) | I16: =IF(OR(G16="",H16=""),"",G16*H16) | J16: =IF(OR(F16="",I16=""),"",I16-F16) | K16: =IF(OR(F16="",I16=""),"",IFERROR((I16-F16)/F16,""))
F17: =IF(OR(D17="",E17=""),"",D17*E17) | I17: =IF(OR(G17="",H17=""),"",G17*H17) | J17: =IF(OR(F17="",I17=""),"",I17-F17) | K17: =IF(OR(F17="",I17=""),"",IFERROR((I17-F17)/F17,""))
F18: =IF(OR(D18="",E18=""),"",D18*E18) | I18: =IF(OR(G18="",H18=""),"",G18*H18) | J18: =IF(OR(F18="",I18=""),"",I18-F18) | K18: =IF(OR(F18="",I18=""),"",IFERROR((I18-F18)/F18,""))
F19: =IF(OR(D19="",E19=""),"",D19*E19) | I19: =IF(OR(G19="",H19=""),"",G19*H19) | J19: =IF(OR(F19="",I19=""),"",I19-F19) | K19: =IF(OR(F19="",I19=""),"",IFERROR((I19-F19)/F19,""))
F20: =IF(OR(D20="",E20=""),"",D20*E20) | I20: =IF(OR(G20="",H20=""),"",G20*H20) | J20: =IF(OR(F20="",I20=""),"",I20-F20) | K20: =IF(OR(F20="",I20=""),"",IFERROR((I20-F20)/F20,""))
F21: =IF(OR(D21="",E21=""),"",D21*E21) | I21: =IF(OR(G21="",H21=""),"",G21*H21) | J21: =IF(OR(F21="",I21=""),"",I21-F21) | K21: =IF(OR(F21="",I21=""),"",IFERROR((I21-F21)/F21,""))
F22: =IF(OR(D22="",E22=""),"",D22*E22) | I22: =IF(OR(G22="",H22=""),"",G22*H22) | J22: =IF(OR(F22="",I22=""),"",I22-F22) | K22: =IF(OR(F22="",I22=""),"",IFERROR((I22-F22)/F22,""))
F23: =IF(OR(D23="",E23=""),"",D23*E23) | I23: =IF(OR(G23="",H23=""),"",G23*H23) | J23: =IF(OR(F23="",I23=""),"",I23-F23) | K23: =IF(OR(F23="",I23=""),"",IFERROR((I23-F23)/F23,""))
F24: =IF(OR(D24="",E24=""),"",D24*E24) | I24: =IF(OR(G24="",H24=""),"",G24*H24) | J24: =IF(OR(F24="",I24=""),"",I24-F24) | K24: =IF(OR(F24="",I24=""),"",IFERROR((I24-F24)/F24,""))
F25: =IF(OR(D25="",E25=""),"",D25*E25) | I25: =IF(OR(G25="",H25=""),"",G25*H25) | J25: =IF(OR(F25="",I25=""),"",I25-F25) | K25: =IF(OR(F25="",I25=""),"",IFERROR((I25-F25)/F25,""))
A26: TỔNG | F26: =SUM(F6:F25) -> 0 | I26: =SUM(I6:I25) -> 0 | J26: =SUM(J6:J25) -> 0 | K26: =IFERROR(J26/F26,"")
A28: (*) Số giả định để minh họa cách điền. Khung tham khảo của A.M Agency tại TP.HCM năm 2026, thay đổi theo kích thước, vật liệu, ngày tổ chức, mùa cao điểm, khu vực và tình hình thị trường.
A30: Cam: lệch quá ngưỡng. Đỏ ở % chênh và Lý do: lệch quá ngưỡng mà chưa ghi lý do. Xám: chứng từ chưa có.
A32: Mẫu của A.M Agency – amagency.vn

Sheet 5. Đánh giá và đề xuất
A1: 5. ĐÁNH GIÁ VÀ ĐỀ XUẤT
A2: Mỗi vấn đề viết đủ bốn ý: chuyện gì xảy ra, vì sao, đã xử lý thế nào, lần sau làm gì.
A3: Ô vàng: bạn điền. Ô trắng: tự tính, đã khóa (Review > Unprotect Sheet nếu cần sửa, không mật khẩu).
A5: LÀM TỐT
A10: VẤN ĐỀ VÀ VIỆC LẦN SAU
A11: Chuyện gì xảy ra | B11: Vì sao | C11: Đã xử lý thế nào | D11: Lần sau làm gì | E11: Ai phụ trách | F11: Hạn
A18: PHẢN HỒI KHÁCH TIÊU BIỂU
A19: Điểm | B19: Ngày | C19: Ý ghi lại
A27: HỒ SƠ ĐÍNH KÈM
A28: Mục | B28: Có / Chưa | C28: Ghi chú hoặc link
A29: Ảnh từng hạng mục (booth, phát mẫu, game)
A30: Link thư mục ảnh
A31: File theo dõi số theo ngày
A32: Phiếu giao nhận hàng có chữ ký
A33: Biên bản nghiệm thu
A34: Hóa đơn, chứng từ chi phí
A35: Video tổng kết
A37: Hồ sơ đã đủ | B37: =IFERROR(COUNTIF(B29:B36,"Có")/(COUNTIF(B29:B36,"Có")+COUNTIF(B29:B36,"Chưa")),"")
A39: Mẫu của A.M Agency – amagency.vn

Sheet Danh mục
A1: DANH MỤC
A2: Danh sách cho các ô chọn. Sửa ở đây thì ô chọn ở các sheet đổi theo.
A4: Loại chương trình | B4: Nguồn số | C4: Nhóm chi phí | D4: Có / Không | E4: Có / Chưa | F4: Danh sách điểm (bạn điền)
A5: sampling | B5: check-in | C5: nhân sự | D5: Có | E5: Có | F5: Điểm 1
A6: activation | B6: phiếu giao nhận | C6: quầy, booth và POSM | D6: Không | E6: Chưa | F6: Điểm 2
A7: roadshow | B7: báo cáo cuối ngày | C7: vật tư phát mẫu | F7: Điểm 3
A8: booth | B8: QR đăng ký | C8: vận chuyển và kho
A9: hội nghị | B9: nền tảng mạng xã hội | C9: truyền thông
A10: ra mắt sản phẩm | B10: khảo sát | C10: quản lý và khác
A11: khai trương
A12: sự kiện nội bộ
A13: khác
A17: Mẫu của A.M Agency – amagency.vn
